BEGIN:VCALENDAR
VERSION:2.0
PRODID:-//Lära Förlag - ECPv6.15.20//NONSGML v1.0//EN
CALSCALE:GREGORIAN
METHOD:PUBLISH
X-WR-CALNAME:Lära Förlag
X-ORIGINAL-URL:https://laraforlag.se
X-WR-CALDESC:Händelser för Lära Förlag
REFRESH-INTERVAL;VALUE=DURATION:PT1H
X-Robots-Tag:noindex
X-PUBLISHED-TTL:PT1H
BEGIN:VTIMEZONE
TZID:Europe/Stockholm
BEGIN:DAYLIGHT
TZOFFSETFROM:+0100
TZOFFSETTO:+0200
TZNAME:CEST
DTSTART:20230326T010000
END:DAYLIGHT
BEGIN:STANDARD
TZOFFSETFROM:+0200
TZOFFSETTO:+0100
TZNAME:CET
DTSTART:20231029T010000
END:STANDARD
BEGIN:DAYLIGHT
TZOFFSETFROM:+0100
TZOFFSETTO:+0200
TZNAME:CEST
DTSTART:20240331T010000
END:DAYLIGHT
BEGIN:STANDARD
TZOFFSETFROM:+0200
TZOFFSETTO:+0100
TZNAME:CET
DTSTART:20241027T010000
END:STANDARD
BEGIN:DAYLIGHT
TZOFFSETFROM:+0100
TZOFFSETTO:+0200
TZNAME:CEST
DTSTART:20250330T010000
END:DAYLIGHT
BEGIN:STANDARD
TZOFFSETFROM:+0200
TZOFFSETTO:+0100
TZNAME:CET
DTSTART:20251026T010000
END:STANDARD
BEGIN:DAYLIGHT
TZOFFSETFROM:+0100
TZOFFSETTO:+0200
TZNAME:CEST
DTSTART:20260329T010000
END:DAYLIGHT
BEGIN:STANDARD
TZOFFSETFROM:+0200
TZOFFSETTO:+0100
TZNAME:CET
DTSTART:20261025T010000
END:STANDARD
END:VTIMEZONE
BEGIN:VEVENT
DTSTART;TZID=Europe/Stockholm:20250326T133000
DTEND;TZID=Europe/Stockholm:20250326T170000
DTSTAMP:20260425T163643
CREATED:20250211T154711Z
LAST-MODIFIED:20250211T154711Z
UID:723-1742995800-1743008400@laraforlag.se
SUMMARY:Läromedelsmässa Växjö
DESCRIPTION:Vi på Lära Förlag kommer att vara på plats i en monter och visa delar av vårt sortiment!
URL:https://laraforlag.se/event/laromedelsmassa-vaxjo/
LOCATION:Fortknox\, Växjö
END:VEVENT
BEGIN:VEVENT
DTSTART;TZID=Europe/Stockholm:20250325T133000
DTEND;TZID=Europe/Stockholm:20250325T170000
DTSTAMP:20260425T163643
CREATED:20250211T154427Z
LAST-MODIFIED:20250211T154427Z
UID:719-1742909400-1742922000@laraforlag.se
SUMMARY:Läromedelsmässa Helsingborg
DESCRIPTION:Vi på Lära Förlag kommer att vara på plats i en monter och visa delar av vårt sortiment!
URL:https://laraforlag.se/event/laromedelsmassa-helsingborg/
LOCATION:HBG Arena\, Helsingborg
END:VEVENT
BEGIN:VEVENT
DTSTART;TZID=Europe/Stockholm:20250319T133000
DTEND;TZID=Europe/Stockholm:20250319T170000
DTSTAMP:20260425T163643
CREATED:20250211T154212Z
LAST-MODIFIED:20250211T154212Z
UID:715-1742391000-1742403600@laraforlag.se
SUMMARY:Läromedelsmässa Malmö
DESCRIPTION:Vi på Lära Förlag kommer att vara på plats i en monter och visa delar av vårt sortiment!
URL:https://laraforlag.se/event/laromedelsmassa-malmo/
LOCATION:Slagthuset\, Malmö
END:VEVENT
BEGIN:VEVENT
DTSTART;TZID=Europe/Stockholm:20250318T133000
DTEND;TZID=Europe/Stockholm:20250318T170000
DTSTAMP:20260425T163643
CREATED:20250211T153940Z
LAST-MODIFIED:20250211T153940Z
UID:711-1742304600-1742317200@laraforlag.se
SUMMARY:Läromedelsmässa Kristianstad
DESCRIPTION:Vi på Lära Förlag kommer att vara på plats i en monter och visa delar av vårt sortiment!
URL:https://laraforlag.se/event/laromedelsmassa-kristianstad/
LOCATION:Kristianstad Arena\, Kristianstad
END:VEVENT
BEGIN:VEVENT
DTSTART;TZID=Europe/Stockholm:20250312T133000
DTEND;TZID=Europe/Stockholm:20250312T170000
DTSTAMP:20260425T163643
CREATED:20250211T132820Z
LAST-MODIFIED:20250211T143449Z
UID:697-1741786200-1741798800@laraforlag.se
SUMMARY:Läromedelsmässa Norrköping
DESCRIPTION:Vi på Lära Förlag kommer att vara på plats i en monter och visa delar av vårt sortiment!
URL:https://laraforlag.se/event/laromedelsmassa-norrkoping/
LOCATION:Louis De Geer\, Norrköping
END:VEVENT
BEGIN:VEVENT
DTSTART;TZID=Europe/Stockholm:20250311T133000
DTEND;TZID=Europe/Stockholm:20250311T170000
DTSTAMP:20260425T163643
CREATED:20250211T132431Z
LAST-MODIFIED:20250211T144026Z
UID:693-1741699800-1741712400@laraforlag.se
SUMMARY:Läromedelsmässa Örebro
DESCRIPTION:Vi på Lära Förlag kommer att vara på plats i en monter och visa delar av vårt sortiment!
URL:https://laraforlag.se/event/laromedelsmassa-orebro/
LOCATION:Conventum\, Örebro
END:VEVENT
BEGIN:VEVENT
DTSTART;TZID=Europe/Stockholm:20250306T133000
DTEND;TZID=Europe/Stockholm:20250306T170000
DTSTAMP:20260425T163643
CREATED:20250211T112743Z
LAST-MODIFIED:20250211T143917Z
UID:689-1741267800-1741280400@laraforlag.se
SUMMARY:Läromedelsmässa Linköping
DESCRIPTION:Vi på Lära Förlag kommer att vara på plats i en monter och visa delar av vårt sortiment!
URL:https://laraforlag.se/event/laromedelsmassa-linkoping/
LOCATION:Linköping Konsert & Kongress
END:VEVENT
BEGIN:VEVENT
DTSTART;TZID=Europe/Stockholm:20250305T133000
DTEND;TZID=Europe/Stockholm:20250305T170000
DTSTAMP:20260425T163643
CREATED:20250211T111050Z
LAST-MODIFIED:20250211T143741Z
UID:679-1741181400-1741194000@laraforlag.se
SUMMARY:Läromedelsmässa Västerås
DESCRIPTION:Vi på Lära Förlag kommer att vara på plats i en monter och visa delar av vårt sortiment! \n \n 
URL:https://laraforlag.se/event/varens-laromedelsmassor-2025/
LOCATION:Västerås Kongress\, Västerås
END:VEVENT
BEGIN:VEVENT
DTSTART;VALUE=DATE:20240621
DTEND;VALUE=DATE:20240622
DTSTAMP:20260425T163643
CREATED:20240611T095034Z
LAST-MODIFIED:20240611T095034Z
UID:530-1718928000-1719014399@laraforlag.se
SUMMARY:Nu tar vi en sommarvals
DESCRIPTION:Skriva en text om det
URL:https://laraforlag.se/event/nu-tar-vi-en-sommarvals/
END:VEVENT
BEGIN:VEVENT
DTSTART;TZID=Europe/Stockholm:20240502T090000
DTEND;TZID=Europe/Stockholm:20240502T160000
DTSTAMP:20260425T163643
CREATED:20240502T105300Z
LAST-MODIFIED:20240502T154222Z
UID:146-1714640400-1714665600@laraforlag.se
SUMMARY:Kurs TVPS-4
DESCRIPTION:En utbildning för dig som vill lära dig att kartlägga visuell perception.\nTestet TVPS-4 visar individens visuella inlärningskanal och gör det möjligt att bättre förstå hur individen uppfattar och tolkar sin omgivning. Testet kan t.ex. användas inom undervisning.
URL:https://laraforlag.se/event/kurs-tvps-4/
LOCATION:Ågrenska\, Järnbrotts \, Teknikhuset\, Prästväg 2\, Hovås\, Sverige
END:VEVENT
END:VCALENDAR