BEGIN:VCALENDAR
VERSION:2.0
PRODID:-//Lära Förlag - ECPv6.15.20//NONSGML v1.0//EN
CALSCALE:GREGORIAN
METHOD:PUBLISH
X-ORIGINAL-URL:https://laraforlag.se
X-WR-CALDESC:Händelser för Lära Förlag
REFRESH-INTERVAL;VALUE=DURATION:PT1H
X-Robots-Tag:noindex
X-PUBLISHED-TTL:PT1H
BEGIN:VTIMEZONE
TZID:Europe/Stockholm
BEGIN:DAYLIGHT
TZOFFSETFROM:+0100
TZOFFSETTO:+0200
TZNAME:CEST
DTSTART:20230326T010000
END:DAYLIGHT
BEGIN:STANDARD
TZOFFSETFROM:+0200
TZOFFSETTO:+0100
TZNAME:CET
DTSTART:20231029T010000
END:STANDARD
BEGIN:DAYLIGHT
TZOFFSETFROM:+0100
TZOFFSETTO:+0200
TZNAME:CEST
DTSTART:20240331T010000
END:DAYLIGHT
BEGIN:STANDARD
TZOFFSETFROM:+0200
TZOFFSETTO:+0100
TZNAME:CET
DTSTART:20241027T010000
END:STANDARD
BEGIN:DAYLIGHT
TZOFFSETFROM:+0100
TZOFFSETTO:+0200
TZNAME:CEST
DTSTART:20250330T010000
END:DAYLIGHT
BEGIN:STANDARD
TZOFFSETFROM:+0200
TZOFFSETTO:+0100
TZNAME:CET
DTSTART:20251026T010000
END:STANDARD
BEGIN:DAYLIGHT
TZOFFSETFROM:+0100
TZOFFSETTO:+0200
TZNAME:CEST
DTSTART:20260329T010000
END:DAYLIGHT
BEGIN:STANDARD
TZOFFSETFROM:+0200
TZOFFSETTO:+0100
TZNAME:CET
DTSTART:20261025T010000
END:STANDARD
BEGIN:DAYLIGHT
TZOFFSETFROM:+0100
TZOFFSETTO:+0200
TZNAME:CEST
DTSTART:20270328T010000
END:DAYLIGHT
BEGIN:STANDARD
TZOFFSETFROM:+0200
TZOFFSETTO:+0100
TZNAME:CET
DTSTART:20271031T010000
END:STANDARD
END:VTIMEZONE
BEGIN:VEVENT
DTSTART;TZID=Europe/Stockholm:20260303T133000
DTEND;TZID=Europe/Stockholm:20260303T170000
DTSTAMP:20260425T144909
CREATED:20260222T145654Z
LAST-MODIFIED:20260222T145654Z
UID:885-1772544600-1772557200@laraforlag.se
SUMMARY:Läromedelsmässa i Norrköping
DESCRIPTION:Sveriges Läromedelsmässa intar Louis De Geer Konsert & Kongress i Norrköping. Besök utställare\, bläddra i läromedel\, lyssna till en föreläsning\, mingla med andra pedagoger och fika gott tisdagen den 3 mars kl. 13.30–17. Föreläsningen ges av Ingela Korsell\, författare och lärare\, som ger sina bästa tips på hur man får en läsande klass.\nKom förbi Lära Förlags monter och kika på våra anpassade läromedel! Flera nyheter finns bland materialen!\nAnmäl dig HÄR!\nVälkomna!
URL:https://laraforlag.se/event/laromedelsmassa-i-norrkoping/
LOCATION:Louis De Geer\, Norrköping
ATTACH;FMTTYPE=image/jpeg:https://laraforlag.se/wp-content/uploads/2026/02/Laromedelsmassor2026.jpg
END:VEVENT
BEGIN:VEVENT
DTSTART;TZID=Europe/Stockholm:20251218T080000
DTEND;TZID=Europe/Stockholm:20251218T170000
DTSTAMP:20260425T144909
CREATED:20251218T101603Z
LAST-MODIFIED:20251218T101603Z
UID:865-1766044800-1766077200@laraforlag.se
SUMMARY:NO-serie nu komplett
DESCRIPTION:Nytt från tryckeriet! Elva nya böcker\, som ingår i vårt stora basläromedel i NO-ämnena\, finns nu i lager. Och därmed är serien komplett. \n                                   \nDe nya titlarna är: \nLär om: Vatten\nLär om: Djur\nLär om: Upptäckter\nLär om: Rymden\nLär om: Naturens liv\nLär om: Kraft och rörelse\nLär om: Årstider och väder\nLär om: Växter och svampar\nLär om: Tid på jorden\nLätt om: I rymden\nLätt om: Naturens liv \n  \n  \nBasläromedlet är indelat i tre serier: NO i vardagen\, Naturens mönster och Kropp och hälsa. Serierna är i sin tur uppdelade i två versioner: Lär om– och Lätt om-böcker. \n\nLär om-materialen består av lättlästa kombinerade text- och övningsböcker. Passar elever som läser och skriver lite själva.\nLätt om-materialen består av enkla arbetsböcker\, digitala övningsprogram och kortlekar. Passar elever som ännu inte knäckt läskoden.\n\nTillhörande lärarwebb finns för respektive serie. De köps separat med skollicens.\nKlassen arbetar med handledningarnas innehåll i kombination med valda delar av elevmaterialen – utifrån intresse\, förmåga och behov.\nLäs mer om basläromedlet och de nya titlarna i Lära Förlags WEBBSHOP!
URL:https://laraforlag.se/event/no-serie-nu-komplett/
END:VEVENT
BEGIN:VEVENT
DTSTART;TZID=Europe/Stockholm:20251016T091500
DTEND;TZID=Europe/Stockholm:20251017T133000
DTSTAMP:20260425T144909
CREATED:20250925T143049Z
LAST-MODIFIED:20250925T143049Z
UID:845-1760606100-1760707800@laraforlag.se
SUMMARY:Konferens Anpassad grund- och gymnasieskola
DESCRIPTION:Lära Förlag deltar som utställare på Skolportens konferens för anpassad grund- och gymnasieskola. Här får besökare chansen att titta och bläddra i delar av vårt sortiment\, ta del av den senaste forskningen och praktiska exempel inom området\, samt möjligheten att utvecklas i sin yrkesroll och möta kollegor.
URL:https://laraforlag.se/event/konferens-anpassad-grund-och-gymnasieskola/
LOCATION:ABF-huset\, Sveavägen 41\, Stockholm\, Sweden
ATTACH;FMTTYPE=image/png:https://laraforlag.se/wp-content/uploads/2025/09/tjej-scaled-e1758810370491.png
END:VEVENT
BEGIN:VEVENT
DTSTART;TZID=Europe/Stockholm:20250924T090000
DTEND;TZID=Europe/Stockholm:20250925T160000
DTSTAMP:20260425T144909
CREATED:20250925T145258Z
LAST-MODIFIED:20250925T145258Z
UID:849-1758704400-1758816000@laraforlag.se
SUMMARY:Lärvux rikskonferens 2025
DESCRIPTION:Vi finns på plats på årets upplaga av Lärvuxpedagogernas rikskonferens i Landskrona! \nPå konferensen lyfts förutsättningar\, utmaningar och goda exempel fram kring samverkan som påverkar möjligheten för personer med IF att studera på Komvux som anpassad utbildning.
URL:https://laraforlag.se/event/larvux-rikskonferens-2025/
LOCATION:Landskrona Teater\, Landskrona\, Sweden
END:VEVENT
BEGIN:VEVENT
DTSTART;TZID=Europe/Stockholm:20250508T133000
DTEND;TZID=Europe/Stockholm:20250508T170000
DTSTAMP:20260425T144909
CREATED:20250213T151143Z
LAST-MODIFIED:20250213T151143Z
UID:753-1746711000-1746723600@laraforlag.se
SUMMARY:Läromedelsmässa Karlstad
DESCRIPTION:Vi på Lära Förlag kommer att vara på plats i en monter och visa delar av vårt sortiment!
URL:https://laraforlag.se/event/laromedelsmassa-karlstad/
LOCATION:Nöjesfabriken\, Karlstad
END:VEVENT
BEGIN:VEVENT
DTSTART;TZID=Europe/Stockholm:20250507T133000
DTEND;TZID=Europe/Stockholm:20250507T170000
DTSTAMP:20260425T144909
CREATED:20250213T151012Z
LAST-MODIFIED:20250213T151012Z
UID:750-1746624600-1746637200@laraforlag.se
SUMMARY:Läromedelsmässa Skövde
DESCRIPTION:Vi på Lära Förlag kommer att vara på plats i en monter och visa delar av vårt sortiment!
URL:https://laraforlag.se/event/laromedelsmassa-skovde/
LOCATION:Skövde Arena\, Skövde
END:VEVENT
BEGIN:VEVENT
DTSTART;TZID=Europe/Stockholm:20250506T133000
DTEND;TZID=Europe/Stockholm:20250506T170000
DTSTAMP:20260425T144909
CREATED:20250213T150846Z
LAST-MODIFIED:20250213T150846Z
UID:747-1746538200-1746550800@laraforlag.se
SUMMARY:Läromedelsmässa Borås
DESCRIPTION:Vi på Lära Förlag kommer att vara på plats i en monter och visa delar av vårt sortiment!
URL:https://laraforlag.se/event/laromedelsmassa-boras/
LOCATION:Åhaga\, Borås
END:VEVENT
BEGIN:VEVENT
DTSTART;TZID=Europe/Stockholm:20250423T133000
DTEND;TZID=Europe/Stockholm:20250423T170000
DTSTAMP:20260425T144909
CREATED:20250213T150702Z
LAST-MODIFIED:20250213T150702Z
UID:744-1745415000-1745427600@laraforlag.se
SUMMARY:Läromedelsmässa Uppsala
DESCRIPTION:Vi på Lära Förlag kommer att vara på plats i en monter och visa delar av vårt sortiment!
URL:https://laraforlag.se/event/laromedelsmassa-uppsala/
LOCATION:Fyrishov\, Uppsala
END:VEVENT
BEGIN:VEVENT
DTSTART;TZID=Europe/Stockholm:20250416T133000
DTEND;TZID=Europe/Stockholm:20250416T170000
DTSTAMP:20260425T144909
CREATED:20250213T150519Z
LAST-MODIFIED:20250213T150519Z
UID:736-1744810200-1744822800@laraforlag.se
SUMMARY:Läromedelsmässa Sundsvall
DESCRIPTION:Vi på Lära Förlag kommer att vara på plats i en monter och visa delar av vårt sortiment!
URL:https://laraforlag.se/event/laromedelsmassa-sundsvall/
LOCATION:Södra Berget\, Sundsvall
END:VEVENT
BEGIN:VEVENT
DTSTART;TZID=Europe/Stockholm:20250403T133000
DTEND;TZID=Europe/Stockholm:20250403T170000
DTSTAMP:20260425T144909
CREATED:20250214T111515Z
LAST-MODIFIED:20250214T111515Z
UID:761-1743687000-1743699600@laraforlag.se
SUMMARY:Läromedelsmässa Göteborg
DESCRIPTION:Vi på Lära Förlag kommer att vara på plats\ni en monter och visa delar av vårt sortiment!
URL:https://laraforlag.se/event/laromedelsmassa-goteborg-2/
LOCATION:Partille Arena\, Göteborg
END:VEVENT
BEGIN:VEVENT
DTSTART;TZID=Europe/Stockholm:20250402T133000
DTEND;TZID=Europe/Stockholm:20250402T170000
DTSTAMP:20260425T144909
CREATED:20250214T111242Z
LAST-MODIFIED:20250214T111242Z
UID:756-1743600600-1743613200@laraforlag.se
SUMMARY:Läromedelsmässa Göteborg
DESCRIPTION:Vi på Lära Förlag kommer att vara på plats\ni en monter och visa delar av vårt sortiment! \n \n 
URL:https://laraforlag.se/event/laromedelsmassa-goteborg/
LOCATION:Partille Arena\, Göteborg
END:VEVENT
BEGIN:VEVENT
DTSTART;TZID=Europe/Stockholm:20250327T133000
DTEND;TZID=Europe/Stockholm:20250327T170000
DTSTAMP:20260425T144909
CREATED:20250211T154849Z
LAST-MODIFIED:20250211T154849Z
UID:727-1743082200-1743094800@laraforlag.se
SUMMARY:Läromedelsmässa Jönköping
DESCRIPTION:Vi på Lära Förlag kommer att vara på plats i en monter och visa delar av vårt sortiment!
URL:https://laraforlag.se/event/laromedelsmassa-jonkoping/
LOCATION:Elmia Hall C\, Jönköping
END:VEVENT
BEGIN:VEVENT
DTSTART;TZID=Europe/Stockholm:20250326T133000
DTEND;TZID=Europe/Stockholm:20250326T170000
DTSTAMP:20260425T144909
CREATED:20250211T154711Z
LAST-MODIFIED:20250211T154711Z
UID:723-1742995800-1743008400@laraforlag.se
SUMMARY:Läromedelsmässa Växjö
DESCRIPTION:Vi på Lära Förlag kommer att vara på plats i en monter och visa delar av vårt sortiment!
URL:https://laraforlag.se/event/laromedelsmassa-vaxjo/
LOCATION:Fortknox\, Växjö
END:VEVENT
BEGIN:VEVENT
DTSTART;TZID=Europe/Stockholm:20250325T133000
DTEND;TZID=Europe/Stockholm:20250325T170000
DTSTAMP:20260425T144909
CREATED:20250211T154427Z
LAST-MODIFIED:20250211T154427Z
UID:719-1742909400-1742922000@laraforlag.se
SUMMARY:Läromedelsmässa Helsingborg
DESCRIPTION:Vi på Lära Förlag kommer att vara på plats i en monter och visa delar av vårt sortiment!
URL:https://laraforlag.se/event/laromedelsmassa-helsingborg/
LOCATION:HBG Arena\, Helsingborg
END:VEVENT
BEGIN:VEVENT
DTSTART;TZID=Europe/Stockholm:20250319T133000
DTEND;TZID=Europe/Stockholm:20250319T170000
DTSTAMP:20260425T144909
CREATED:20250211T154212Z
LAST-MODIFIED:20250211T154212Z
UID:715-1742391000-1742403600@laraforlag.se
SUMMARY:Läromedelsmässa Malmö
DESCRIPTION:Vi på Lära Förlag kommer att vara på plats i en monter och visa delar av vårt sortiment!
URL:https://laraforlag.se/event/laromedelsmassa-malmo/
LOCATION:Slagthuset\, Malmö
END:VEVENT
BEGIN:VEVENT
DTSTART;TZID=Europe/Stockholm:20250318T133000
DTEND;TZID=Europe/Stockholm:20250318T170000
DTSTAMP:20260425T144909
CREATED:20250211T153940Z
LAST-MODIFIED:20250211T153940Z
UID:711-1742304600-1742317200@laraforlag.se
SUMMARY:Läromedelsmässa Kristianstad
DESCRIPTION:Vi på Lära Förlag kommer att vara på plats i en monter och visa delar av vårt sortiment!
URL:https://laraforlag.se/event/laromedelsmassa-kristianstad/
LOCATION:Kristianstad Arena\, Kristianstad
END:VEVENT
BEGIN:VEVENT
DTSTART;TZID=Europe/Stockholm:20250312T133000
DTEND;TZID=Europe/Stockholm:20250312T170000
DTSTAMP:20260425T144909
CREATED:20250211T132820Z
LAST-MODIFIED:20250211T143449Z
UID:697-1741786200-1741798800@laraforlag.se
SUMMARY:Läromedelsmässa Norrköping
DESCRIPTION:Vi på Lära Förlag kommer att vara på plats i en monter och visa delar av vårt sortiment!
URL:https://laraforlag.se/event/laromedelsmassa-norrkoping/
LOCATION:Louis De Geer\, Norrköping
END:VEVENT
BEGIN:VEVENT
DTSTART;TZID=Europe/Stockholm:20250311T133000
DTEND;TZID=Europe/Stockholm:20250311T170000
DTSTAMP:20260425T144909
CREATED:20250211T132431Z
LAST-MODIFIED:20250211T144026Z
UID:693-1741699800-1741712400@laraforlag.se
SUMMARY:Läromedelsmässa Örebro
DESCRIPTION:Vi på Lära Förlag kommer att vara på plats i en monter och visa delar av vårt sortiment!
URL:https://laraforlag.se/event/laromedelsmassa-orebro/
LOCATION:Conventum\, Örebro
END:VEVENT
BEGIN:VEVENT
DTSTART;TZID=Europe/Stockholm:20250306T133000
DTEND;TZID=Europe/Stockholm:20250306T170000
DTSTAMP:20260425T144909
CREATED:20250211T112743Z
LAST-MODIFIED:20250211T143917Z
UID:689-1741267800-1741280400@laraforlag.se
SUMMARY:Läromedelsmässa Linköping
DESCRIPTION:Vi på Lära Förlag kommer att vara på plats i en monter och visa delar av vårt sortiment!
URL:https://laraforlag.se/event/laromedelsmassa-linkoping/
LOCATION:Linköping Konsert & Kongress
END:VEVENT
BEGIN:VEVENT
DTSTART;TZID=Europe/Stockholm:20250305T133000
DTEND;TZID=Europe/Stockholm:20250305T170000
DTSTAMP:20260425T144909
CREATED:20250211T111050Z
LAST-MODIFIED:20250211T143741Z
UID:679-1741181400-1741194000@laraforlag.se
SUMMARY:Läromedelsmässa Västerås
DESCRIPTION:Vi på Lära Förlag kommer att vara på plats i en monter och visa delar av vårt sortiment! \n \n 
URL:https://laraforlag.se/event/varens-laromedelsmassor-2025/
LOCATION:Västerås Kongress\, Västerås
END:VEVENT
BEGIN:VEVENT
DTSTART;VALUE=DATE:20240621
DTEND;VALUE=DATE:20240622
DTSTAMP:20260425T144909
CREATED:20240611T095034Z
LAST-MODIFIED:20240611T095034Z
UID:530-1718928000-1719014399@laraforlag.se
SUMMARY:Nu tar vi en sommarvals
DESCRIPTION:Skriva en text om det
URL:https://laraforlag.se/event/nu-tar-vi-en-sommarvals/
END:VEVENT
BEGIN:VEVENT
DTSTART;TZID=Europe/Stockholm:20240502T090000
DTEND;TZID=Europe/Stockholm:20240502T160000
DTSTAMP:20260425T144909
CREATED:20240502T105300Z
LAST-MODIFIED:20240502T154222Z
UID:146-1714640400-1714665600@laraforlag.se
SUMMARY:Kurs TVPS-4
DESCRIPTION:En utbildning för dig som vill lära dig att kartlägga visuell perception.\nTestet TVPS-4 visar individens visuella inlärningskanal och gör det möjligt att bättre förstå hur individen uppfattar och tolkar sin omgivning. Testet kan t.ex. användas inom undervisning.
URL:https://laraforlag.se/event/kurs-tvps-4/
LOCATION:Ågrenska\, Järnbrotts \, Teknikhuset\, Prästväg 2\, Hovås\, Sverige
END:VEVENT
END:VCALENDAR