BEGIN:VCALENDAR
VERSION:2.0
PRODID:-//Lära Förlag - ECPv6.15.20//NONSGML v1.0//EN
CALSCALE:GREGORIAN
METHOD:PUBLISH
X-ORIGINAL-URL:https://laraforlag.se
X-WR-CALDESC:Händelser för Lära Förlag
REFRESH-INTERVAL;VALUE=DURATION:PT1H
X-Robots-Tag:noindex
X-PUBLISHED-TTL:PT1H
BEGIN:VTIMEZONE
TZID:Europe/Stockholm
BEGIN:DAYLIGHT
TZOFFSETFROM:+0100
TZOFFSETTO:+0200
TZNAME:CEST
DTSTART:20250330T010000
END:DAYLIGHT
BEGIN:STANDARD
TZOFFSETFROM:+0200
TZOFFSETTO:+0100
TZNAME:CET
DTSTART:20251026T010000
END:STANDARD
BEGIN:DAYLIGHT
TZOFFSETFROM:+0100
TZOFFSETTO:+0200
TZNAME:CEST
DTSTART:20260329T010000
END:DAYLIGHT
BEGIN:STANDARD
TZOFFSETFROM:+0200
TZOFFSETTO:+0100
TZNAME:CET
DTSTART:20261025T010000
END:STANDARD
BEGIN:DAYLIGHT
TZOFFSETFROM:+0100
TZOFFSETTO:+0200
TZNAME:CEST
DTSTART:20270328T010000
END:DAYLIGHT
BEGIN:STANDARD
TZOFFSETFROM:+0200
TZOFFSETTO:+0100
TZNAME:CET
DTSTART:20271031T010000
END:STANDARD
END:VTIMEZONE
BEGIN:VEVENT
DTSTART;TZID=Europe/Stockholm:20260324T133000
DTEND;TZID=Europe/Stockholm:20260324T173000
DTSTAMP:20260419T180158
CREATED:20260323T134510Z
LAST-MODIFIED:20260323T134510Z
UID:943-1774359000-1774373400@laraforlag.se
SUMMARY:Läromedelsmässa i Göteborg
DESCRIPTION:I dagarna två\, 24–25 mars\, arrangerar GöteborgsRegionen läromedelsmässa i Eriksbergshallen. Här presenteras läromedel för elever i förskoleklass till gymnasiet samt för elever i anpassad skola. Det kommer även att hållas seminarier på temat ”Att välja läromedel evidensinformerat”. Lära Förlag är på plats och visar delar av sitt stora sortiment av anpassade läromedel\, varav flera intressanta nyheter. Mässtider tisdag: kl 13.30–17.30\, onsdag kl 13.30–17. \nAnmäl dig HÄR! \nVarmt välkomna!
URL:https://laraforlag.se/event/laromedelsmassa-i-goteborg/
LOCATION:Eriksbergshallen\, Sjöportsgatan 5\, Göteborg\, 41764
ATTACH;FMTTYPE=image/png:https://laraforlag.se/wp-content/uploads/2025/02/ballong.png
END:VEVENT
END:VCALENDAR