BEGIN:VCALENDAR
VERSION:2.0
PRODID:-//Lära Förlag - ECPv6.15.20//NONSGML v1.0//EN
CALSCALE:GREGORIAN
METHOD:PUBLISH
X-WR-CALNAME:Lära Förlag
X-ORIGINAL-URL:https://laraforlag.se
X-WR-CALDESC:Händelser för Lära Förlag
REFRESH-INTERVAL;VALUE=DURATION:PT1H
X-Robots-Tag:noindex
X-PUBLISHED-TTL:PT1H
BEGIN:VTIMEZONE
TZID:Europe/Stockholm
BEGIN:DAYLIGHT
TZOFFSETFROM:+0100
TZOFFSETTO:+0200
TZNAME:CEST
DTSTART:20250330T010000
END:DAYLIGHT
BEGIN:STANDARD
TZOFFSETFROM:+0200
TZOFFSETTO:+0100
TZNAME:CET
DTSTART:20251026T010000
END:STANDARD
BEGIN:DAYLIGHT
TZOFFSETFROM:+0100
TZOFFSETTO:+0200
TZNAME:CEST
DTSTART:20260329T010000
END:DAYLIGHT
BEGIN:STANDARD
TZOFFSETFROM:+0200
TZOFFSETTO:+0100
TZNAME:CET
DTSTART:20261025T010000
END:STANDARD
BEGIN:DAYLIGHT
TZOFFSETFROM:+0100
TZOFFSETTO:+0200
TZNAME:CEST
DTSTART:20270328T010000
END:DAYLIGHT
BEGIN:STANDARD
TZOFFSETFROM:+0200
TZOFFSETTO:+0100
TZNAME:CET
DTSTART:20271031T010000
END:STANDARD
END:VTIMEZONE
BEGIN:VEVENT
DTSTART;TZID=Europe/Stockholm:20260319T133000
DTEND;TZID=Europe/Stockholm:20260319T170000
DTSTAMP:20260419T182011
CREATED:20260309T093245Z
LAST-MODIFIED:20260309T093245Z
UID:913-1773927000-1773939600@laraforlag.se
SUMMARY:Läromedelsmässa i Umeå
DESCRIPTION:Sveriges Läromedelsmässa intar Nolia Arena i Umeå torsdag den 19mars kl. 13.30–17. Besök utställare\, bläddra i läromedel\, lyssna till en föreläsning\, mingla med andra pedagoger och fika gott. Föreläsningen ges av Ellinor Allen\, lågstadie- och speciallärare\, som kommer prata om läs- och skrivundervisning i åk Fk–6. Vad är det som gör att vissa skolor lyckas vända lästrender medan andra stampar på stället?\nKom förbi Lära Förlags monter och kika på våra anpassade läromedel! Flera nyheter finns bland materialen.\nAnmäl dig HÄR! \nVälkomna! \n 
URL:https://laraforlag.se/event/laromedelsmassa-i-umea/
LOCATION:Nolia Arena\, Signalvägen 3\, Umeå\, 90322
ATTACH;FMTTYPE=image/jpeg:https://laraforlag.se/wp-content/uploads/2026/02/Laromedelsmassor2026.jpg
END:VEVENT
END:VCALENDAR