BEGIN:VCALENDAR
VERSION:2.0
PRODID:-//Lära Förlag - ECPv6.15.20//NONSGML v1.0//EN
CALSCALE:GREGORIAN
METHOD:PUBLISH
X-WR-CALNAME:Lära Förlag
X-ORIGINAL-URL:https://laraforlag.se
X-WR-CALDESC:Händelser för Lära Förlag
REFRESH-INTERVAL;VALUE=DURATION:PT1H
X-Robots-Tag:noindex
X-PUBLISHED-TTL:PT1H
BEGIN:VTIMEZONE
TZID:Europe/Stockholm
BEGIN:DAYLIGHT
TZOFFSETFROM:+0100
TZOFFSETTO:+0200
TZNAME:CEST
DTSTART:20250330T010000
END:DAYLIGHT
BEGIN:STANDARD
TZOFFSETFROM:+0200
TZOFFSETTO:+0100
TZNAME:CET
DTSTART:20251026T010000
END:STANDARD
BEGIN:DAYLIGHT
TZOFFSETFROM:+0100
TZOFFSETTO:+0200
TZNAME:CEST
DTSTART:20260329T010000
END:DAYLIGHT
BEGIN:STANDARD
TZOFFSETFROM:+0200
TZOFFSETTO:+0100
TZNAME:CET
DTSTART:20261025T010000
END:STANDARD
BEGIN:DAYLIGHT
TZOFFSETFROM:+0100
TZOFFSETTO:+0200
TZNAME:CEST
DTSTART:20270328T010000
END:DAYLIGHT
BEGIN:STANDARD
TZOFFSETFROM:+0200
TZOFFSETTO:+0100
TZNAME:CET
DTSTART:20271031T010000
END:STANDARD
END:VTIMEZONE
BEGIN:VEVENT
DTSTART;TZID=Europe/Stockholm:20260312T133000
DTEND;TZID=Europe/Stockholm:20260312T170000
DTSTAMP:20260419T182009
CREATED:20260302T082538Z
LAST-MODIFIED:20260302T082657Z
UID:902-1773322200-1773334800@laraforlag.se
SUMMARY:Läromedelsmässa i Malmö
DESCRIPTION:Sveriges Läromedelsmässa intar Slagthuset i Malmö torsdagen den 12 mars kl. 13.30–17. Besök utställare\, bläddra i läromedel\, lyssna till en föreläsning\, mingla med andra pedagoger och fika gott. Föreläsningen ges av Camilla Hyrefelt och Stina Hyltmark\, speciallärare respektive rektor på Pilängskolan\, som berättar om skolans framgångsrika arbete med läsinlärning utifrån den strukturerade ljudningsmetoden.\nKom förbi Lära Förlags monter och kika på våra anpassade läromedel! Flera nyheter finns bland materialen!\nAnmäl dig HÄR!
URL:https://laraforlag.se/event/laromedelsmassa-i-malmo/
LOCATION:Slagthuset\, Malmö
ATTACH;FMTTYPE=image/jpeg:https://laraforlag.se/wp-content/uploads/2026/02/Laromedelsmassor2026.jpg
END:VEVENT
END:VCALENDAR