BEGIN:VCALENDAR
VERSION:2.0
PRODID:-//Lära Förlag - ECPv6.15.20//NONSGML v1.0//EN
CALSCALE:GREGORIAN
METHOD:PUBLISH
X-ORIGINAL-URL:https://laraforlag.se
X-WR-CALDESC:Händelser för Lära Förlag
REFRESH-INTERVAL;VALUE=DURATION:PT1H
X-Robots-Tag:noindex
X-PUBLISHED-TTL:PT1H
BEGIN:VTIMEZONE
TZID:Europe/Stockholm
BEGIN:DAYLIGHT
TZOFFSETFROM:+0100
TZOFFSETTO:+0200
TZNAME:CEST
DTSTART:20250330T010000
END:DAYLIGHT
BEGIN:STANDARD
TZOFFSETFROM:+0200
TZOFFSETTO:+0100
TZNAME:CET
DTSTART:20251026T010000
END:STANDARD
BEGIN:DAYLIGHT
TZOFFSETFROM:+0100
TZOFFSETTO:+0200
TZNAME:CEST
DTSTART:20260329T010000
END:DAYLIGHT
BEGIN:STANDARD
TZOFFSETFROM:+0200
TZOFFSETTO:+0100
TZNAME:CET
DTSTART:20261025T010000
END:STANDARD
BEGIN:DAYLIGHT
TZOFFSETFROM:+0100
TZOFFSETTO:+0200
TZNAME:CEST
DTSTART:20270328T010000
END:DAYLIGHT
BEGIN:STANDARD
TZOFFSETFROM:+0200
TZOFFSETTO:+0100
TZNAME:CET
DTSTART:20271031T010000
END:STANDARD
END:VTIMEZONE
BEGIN:VEVENT
DTSTART;TZID=Europe/Stockholm:20260305T133000
DTEND;TZID=Europe/Stockholm:20260305T170000
DTSTAMP:20260419T180322
CREATED:20260222T152506Z
LAST-MODIFIED:20260222T152507Z
UID:893-1772717400-1772730000@laraforlag.se
SUMMARY:Läromedelsmässa i Örebro
DESCRIPTION:Sveriges Läromedelsmässa intar Conventum Arena i Örebro torsdag den 5 mars kl. 13.30–17. Besök utställare\, bläddra i läromedel\, lyssna till en föreläsning\, mingla med andra pedagoger och fika gott. Föreläsningen ges av Ingela Korsell\, författare och lärare\, som ger sina bästa tips på hur man får en läsande klass.\nKom förbi Lära Förlags monter och kika på våra anpassade läromedel! Flera nyheter finns bland materialen.\nAnmäl dig HÄR!\nVälkomna!
URL:https://laraforlag.se/event/laromedelsmassa-i-orebro/
LOCATION:Conventum\, Örebro
ATTACH;FMTTYPE=image/jpeg:https://laraforlag.se/wp-content/uploads/2026/02/Laromedelsmassor2026.jpg
END:VEVENT
END:VCALENDAR